BEGIN:VCALENDAR
VERSION:2.0
PRODID:-//BARA - ECPv6.15.20//NONSGML v1.0//EN
CALSCALE:GREGORIAN
METHOD:PUBLISH
X-WR-CALNAME:BARA
X-ORIGINAL-URL:https://www.bara.org
X-WR-CALDESC:Events for BARA
REFRESH-INTERVAL;VALUE=DURATION:PT1H
X-Robots-Tag:noindex
X-PUBLISHED-TTL:PT1H
BEGIN:VTIMEZONE
TZID:America/New_York
BEGIN:DAYLIGHT
TZOFFSETFROM:-0500
TZOFFSETTO:-0400
TZNAME:EDT
DTSTART:20220313T070000
END:DAYLIGHT
BEGIN:STANDARD
TZOFFSETFROM:-0400
TZOFFSETTO:-0500
TZNAME:EST
DTSTART:20221106T060000
END:STANDARD
BEGIN:DAYLIGHT
TZOFFSETFROM:-0500
TZOFFSETTO:-0400
TZNAME:EDT
DTSTART:20230312T070000
END:DAYLIGHT
BEGIN:STANDARD
TZOFFSETFROM:-0400
TZOFFSETTO:-0500
TZNAME:EST
DTSTART:20231105T060000
END:STANDARD
BEGIN:DAYLIGHT
TZOFFSETFROM:-0500
TZOFFSETTO:-0400
TZNAME:EDT
DTSTART:20240310T070000
END:DAYLIGHT
BEGIN:STANDARD
TZOFFSETFROM:-0400
TZOFFSETTO:-0500
TZNAME:EST
DTSTART:20241103T060000
END:STANDARD
END:VTIMEZONE
BEGIN:VEVENT
DTSTART;TZID=America/New_York:20231203T180000
DTEND;TZID=America/New_York:20231203T210000
DTSTAMP:20260424T060529
CREATED:20141017T130900Z
LAST-MODIFIED:20231118T223542Z
UID:122-1701626400-1701637200@www.bara.org
SUMMARY:BARA Holiday Dinner
DESCRIPTION:Free for BARA members.\n$10 per person per guest. \nThe BARA Holiday dinner will be catered at the Washington Township senior center\, the same place that we meet. We will start serving dinner at 6PM. \nFor members who have paid their 2023 dues the dinner is free.\nIf you bring a family member  the cost is $10. \nIf you have not paid your dues you will have an opportunity to do so. \nPlease contact Jim K2ZO if you are coming  at 201 294 7018.\nIf you signed up at the meeting you do not need to call.
URL:https://www.bara.org/event/bara-awards-dinner/
LOCATION:Senior Center\, 350 Hudson Avenue\, Township of Washington\, NJ\, 07676\, United States
CATEGORIES:Activity
END:VEVENT
END:VCALENDAR