BEGIN:VCALENDAR
VERSION:2.0
PRODID:-//BARA - ECPv6.15.20//NONSGML v1.0//EN
CALSCALE:GREGORIAN
METHOD:PUBLISH
X-WR-CALNAME:BARA
X-ORIGINAL-URL:https://www.bara.org
X-WR-CALDESC:Events for BARA
REFRESH-INTERVAL;VALUE=DURATION:PT1H
X-Robots-Tag:noindex
X-PUBLISHED-TTL:PT1H
BEGIN:VTIMEZONE
TZID:America/New_York
BEGIN:DAYLIGHT
TZOFFSETFROM:-0500
TZOFFSETTO:-0400
TZNAME:EDT
DTSTART:20230312T070000
END:DAYLIGHT
BEGIN:STANDARD
TZOFFSETFROM:-0400
TZOFFSETTO:-0500
TZNAME:EST
DTSTART:20231105T060000
END:STANDARD
BEGIN:DAYLIGHT
TZOFFSETFROM:-0500
TZOFFSETTO:-0400
TZNAME:EDT
DTSTART:20240310T070000
END:DAYLIGHT
BEGIN:STANDARD
TZOFFSETFROM:-0400
TZOFFSETTO:-0500
TZNAME:EST
DTSTART:20241103T060000
END:STANDARD
BEGIN:DAYLIGHT
TZOFFSETFROM:-0500
TZOFFSETTO:-0400
TZNAME:EDT
DTSTART:20250309T070000
END:DAYLIGHT
BEGIN:STANDARD
TZOFFSETFROM:-0400
TZOFFSETTO:-0500
TZNAME:EST
DTSTART:20251102T060000
END:STANDARD
END:VTIMEZONE
BEGIN:VEVENT
DTSTART;TZID=America/New_York:20240420T100000
DTEND;TZID=America/New_York:20240420T170000
DTSTAMP:20260424T001420
CREATED:20150228T172233Z
LAST-MODIFIED:20240227T133344Z
UID:319-1713607200-1713632400@www.bara.org
SUMMARY:Portable Day
DESCRIPTION:
URL:https://www.bara.org/event/portable-day/
LOCATION:Pascack Brook County Park\, 150 Emerson Rd\, Westwood\, NJ\, 07675\, United States
CATEGORIES:Activity
END:VEVENT
END:VCALENDAR