BEGIN:VCALENDAR
VERSION:2.0
PRODID:-//BARA - ECPv6.15.20//NONSGML v1.0//EN
CALSCALE:GREGORIAN
METHOD:PUBLISH
X-WR-CALNAME:BARA
X-ORIGINAL-URL:https://www.bara.org
X-WR-CALDESC:Events for BARA
REFRESH-INTERVAL;VALUE=DURATION:PT1H
X-Robots-Tag:noindex
X-PUBLISHED-TTL:PT1H
BEGIN:VTIMEZONE
TZID:America/New_York
BEGIN:DAYLIGHT
TZOFFSETFROM:-0500
TZOFFSETTO:-0400
TZNAME:EDT
DTSTART:20190310T070000
END:DAYLIGHT
BEGIN:STANDARD
TZOFFSETFROM:-0400
TZOFFSETTO:-0500
TZNAME:EST
DTSTART:20191103T060000
END:STANDARD
BEGIN:DAYLIGHT
TZOFFSETFROM:-0500
TZOFFSETTO:-0400
TZNAME:EDT
DTSTART:20200308T070000
END:DAYLIGHT
BEGIN:STANDARD
TZOFFSETFROM:-0400
TZOFFSETTO:-0500
TZNAME:EST
DTSTART:20201101T060000
END:STANDARD
BEGIN:DAYLIGHT
TZOFFSETFROM:-0500
TZOFFSETTO:-0400
TZNAME:EDT
DTSTART:20210314T070000
END:DAYLIGHT
BEGIN:STANDARD
TZOFFSETFROM:-0400
TZOFFSETTO:-0500
TZNAME:EST
DTSTART:20211107T060000
END:STANDARD
BEGIN:DAYLIGHT
TZOFFSETFROM:-0500
TZOFFSETTO:-0400
TZNAME:EDT
DTSTART:20220313T070000
END:DAYLIGHT
BEGIN:STANDARD
TZOFFSETFROM:-0400
TZOFFSETTO:-0500
TZNAME:EST
DTSTART:20221106T060000
END:STANDARD
BEGIN:DAYLIGHT
TZOFFSETFROM:-0500
TZOFFSETTO:-0400
TZNAME:EDT
DTSTART:20230312T070000
END:DAYLIGHT
BEGIN:STANDARD
TZOFFSETFROM:-0400
TZOFFSETTO:-0500
TZNAME:EST
DTSTART:20231105T060000
END:STANDARD
BEGIN:DAYLIGHT
TZOFFSETFROM:-0500
TZOFFSETTO:-0400
TZNAME:EDT
DTSTART:20240310T070000
END:DAYLIGHT
BEGIN:STANDARD
TZOFFSETFROM:-0400
TZOFFSETTO:-0500
TZNAME:EST
DTSTART:20241103T060000
END:STANDARD
BEGIN:DAYLIGHT
TZOFFSETFROM:-0500
TZOFFSETTO:-0400
TZNAME:EDT
DTSTART:20250309T070000
END:DAYLIGHT
BEGIN:STANDARD
TZOFFSETFROM:-0400
TZOFFSETTO:-0500
TZNAME:EST
DTSTART:20251102T060000
END:STANDARD
BEGIN:DAYLIGHT
TZOFFSETFROM:-0500
TZOFFSETTO:-0400
TZNAME:EDT
DTSTART:20260308T070000
END:DAYLIGHT
BEGIN:STANDARD
TZOFFSETFROM:-0400
TZOFFSETTO:-0500
TZNAME:EST
DTSTART:20261101T060000
END:STANDARD
END:VTIMEZONE
BEGIN:VEVENT
DTSTART;TZID=America/New_York:20251011T080000
DTEND;TZID=America/New_York:20251011T130000
DTSTAMP:20260422T072858
CREATED:20141107T034247Z
LAST-MODIFIED:20250825T232110Z
UID:271-1760169600-1760187600@www.bara.org
SUMMARY:BARA Hamfest
DESCRIPTION:Hamfest Flyer \nHamfest web page
URL:https://www.bara.org/event/bara-hamfest/
LOCATION:Westwood Jr/Sr High School\, 701 Ridgewood Road\, Township of Washington\, NJ\, 07676\, United States
CATEGORIES:Activity
END:VEVENT
BEGIN:VEVENT
DTSTART;TZID=America/New_York:20240420T100000
DTEND;TZID=America/New_York:20240420T170000
DTSTAMP:20260422T072858
CREATED:20150228T172233Z
LAST-MODIFIED:20240227T133344Z
UID:319-1713607200-1713632400@www.bara.org
SUMMARY:Portable Day
DESCRIPTION:
URL:https://www.bara.org/event/portable-day/
LOCATION:Pascack Brook County Park\, 150 Emerson Rd\, Westwood\, NJ\, 07675\, United States
CATEGORIES:Activity
END:VEVENT
BEGIN:VEVENT
DTSTART;TZID=America/New_York:20231203T180000
DTEND;TZID=America/New_York:20231203T210000
DTSTAMP:20260422T072858
CREATED:20141017T130900Z
LAST-MODIFIED:20231118T223542Z
UID:122-1701626400-1701637200@www.bara.org
SUMMARY:BARA Holiday Dinner
DESCRIPTION:Free for BARA members.\n$10 per person per guest. \nThe BARA Holiday dinner will be catered at the Washington Township senior center\, the same place that we meet. We will start serving dinner at 6PM. \nFor members who have paid their 2023 dues the dinner is free.\nIf you bring a family member  the cost is $10. \nIf you have not paid your dues you will have an opportunity to do so. \nPlease contact Jim K2ZO if you are coming  at 201 294 7018.\nIf you signed up at the meeting you do not need to call.
URL:https://www.bara.org/event/bara-awards-dinner/
LOCATION:Senior Center\, 350 Hudson Avenue\, Township of Washington\, NJ\, 07676\, United States
CATEGORIES:Activity
END:VEVENT
BEGIN:VEVENT
DTSTART;TZID=America/New_York:20230806T110000
DTEND;TZID=America/New_York:20230806T150000
DTSTAMP:20260422T072858
CREATED:20150228T172356Z
LAST-MODIFIED:20230727T151033Z
UID:321-1691319600-1691334000@www.bara.org
SUMMARY:Picnic
DESCRIPTION:
URL:https://www.bara.org/event/picnic/
LOCATION:Wood Dale County Park\, 139 Prospect Ave\, Woodcliff Lake\, NJ\, 07677\, United States
CATEGORIES:Activity
END:VEVENT
BEGIN:VEVENT
DTSTART;TZID=America/New_York:20220424T120000
DTEND;TZID=America/New_York:20220424T170000
DTSTAMP:20260422T072858
CREATED:20141015T133809Z
LAST-MODIFIED:20220307T004316Z
UID:15-1650801600-1650819600@www.bara.org
SUMMARY:Fox Hunt
DESCRIPTION:Fox Hunt\nAll are welcome\nMeet at the Westwood Regional High School @ 12 noon\n701 Ridgewood Road\nThe Township of Washington\, NJ 07676\nTalk in 146.790 repeater
URL:https://www.bara.org/event/fox-hunt/
LOCATION:Westwood Jr/Sr High School\, 701 Ridgewood Road\, Township of Washington\, NJ\, 07676\, United States
CATEGORIES:Activity
END:VEVENT
BEGIN:VEVENT
DTSTART;TZID=America/New_York:20211016T090000
DTEND;TZID=America/New_York:20211016T160000
DTSTAMP:20260422T072858
CREATED:20160427T011051Z
LAST-MODIFIED:20210918T190743Z
UID:515-1634374800-1634400000@www.bara.org
SUMMARY:Portable Day
DESCRIPTION:
URL:https://www.bara.org/event/portable-day-2/
LOCATION:Memorial Park – Fairlawn\, Memorial Park\, Fairlawn\, NJ\, 07410\, United States
CATEGORIES:Activity
END:VEVENT
BEGIN:VEVENT
DTSTART;TZID=America/New_York:20211010T120000
DTEND;TZID=America/New_York:20211010T170000
DTSTAMP:20260422T072858
CREATED:20160427T011233Z
LAST-MODIFIED:20210918T190827Z
UID:516-1633867200-1633885200@www.bara.org
SUMMARY:Fox Hunt
DESCRIPTION:Fox Hunt\nAll are welcome\nMeet at the Westwood Regional High School @ 12 noon\n701 Ridgewood Road\nThe Township of Washington\, NJ 07676\nTalk in 146.790 repeater
URL:https://www.bara.org/event/fox-hunt-2/
LOCATION:Westwood Jr/Sr High School\, 701 Ridgewood Road\, Township of Washington\, NJ\, 07676\, United States
CATEGORIES:Activity
END:VEVENT
BEGIN:VEVENT
DTSTART;TZID=America/New_York:20201127T173000
DTEND;TZID=America/New_York:20201127T230000
DTSTAMP:20260422T072858
CREATED:20141017T125629Z
LAST-MODIFIED:20191228T005744Z
UID:118-1606498200-1606518000@www.bara.org
SUMMARY:FLARC Auction
DESCRIPTION:Doors open @ 5:00pm for Sellers & 6:00pm for Buyers \nLocated on the corner of 11th Street and Gardiner Road.
URL:https://www.bara.org/event/flarc-auction/
LOCATION:Fair Lawn Senior Center\, 11-05 Gardiner Road\, Fairlawn\, NJ\, 07410\, United States
CATEGORIES:Activity
END:VEVENT
END:VCALENDAR